BEGIN:VCALENDAR
VERSION:2.0
PRODID:-//Sophicity/Tribune/Hogansville, GA
BEGIN:VEVENT
DTSTAMP:20260425T160747Z
UID:e38bd3f4-da44-4283-b85a-c89aa8858848-6143
DTSTART:20260420T230000Z
DTEND:20260421T000000Z
CLASS:PUBLIC
SUMMARY:City Council Meeting 
END:VEVENT
END:VCALENDAR
